BEGIN:VCALENDAR
VERSION:2.0
PRODID:-//Sri Punya - ECPv6.15.17.1//NONSGML v1.0//EN
CALSCALE:GREGORIAN
METHOD:PUBLISH
X-WR-CALNAME:Sri Punya
X-ORIGINAL-URL:https://sripunya.com
X-WR-CALDESC:Events for Sri Punya
REFRESH-INTERVAL;VALUE=DURATION:PT1H
X-Robots-Tag:noindex
X-PUBLISHED-TTL:PT1H
BEGIN:VTIMEZONE
TZID:UTC
BEGIN:STANDARD
TZOFFSETFROM:+0000
TZOFFSETTO:+0000
TZNAME:UTC
DTSTART:20220101T000000
END:STANDARD
END:VTIMEZONE
BEGIN:VEVENT
DTSTART;TZID=UTC:20250515T100000
DTEND;TZID=UTC:20250519T123000
DTSTAMP:20260424T161112
CREATED:20170518T020617Z
LAST-MODIFIED:20250627T112638Z
UID:1754-1747303200-1747657800@sripunya.com
SUMMARY:Sri Punya For Fund Raisers
DESCRIPTION:Join online event on how to join Sri Punya\, create projects\, invite backers and get paid. \nFind out how easy is to join Sri Punya and present your project to the public. \nSome of the topics: \n\nHow to register and access your account\nHow to create a funding project\nWhere to find backers\nHow you get paid\nWhy we don’t take percentages from the projects (it’s your money)\n\n 
URL:https://sripunya.com/events/sri-punya-for-fund-raisers/
LOCATION:London\, United Kingdom
CATEGORIES:Seminars
ATTACH;FMTTYPE=image/jpeg:https://sripunya.com/wp-content/uploads/2017/05/event-4.jpg
END:VEVENT
BEGIN:VEVENT
DTSTART;TZID=UTC:20231022T080000
DTEND;TZID=UTC:20231022T170000
DTSTAMP:20260424T161112
CREATED:20170518T020707Z
LAST-MODIFIED:20170518T020707Z
UID:1756-1697961600-1697994000@sripunya.com
SUMMARY:Consulting Business Credit Building
DESCRIPTION:Sed ut perspiciatis unde omnis iste natus error sit voluptatem accusantium doloremque laudantium\, totam rem aperiam\, eaque ipsa quae ab illo. \nSed ut perspiciatis unde omnis iste natus error sit voluptatem accusantium doloremque laudantium\, totam rem aperiam\, eaque ipsa quae ab illo inventore veritatis et quasi architecto beatae vitae dicta sunt explicabo. Nemo enim ipsam voluptatem quia voluptas sit aspernatur aut odit aut fugit\, sed quia consequuntur magni dolores eos qui ratione voluptatem sequi nesciunt.
URL:https://sripunya.com/events/consulting-business-credit-building/
LOCATION:New York\, 8 King Street\, Queens\, NY\, United States
CATEGORIES:Seminars
ATTACH;FMTTYPE=image/jpeg:https://sripunya.com/wp-content/uploads/2017/05/event-3.jpg
ORGANIZER;CN="Gary Jones":MAILTO:info@demo.com
END:VEVENT
BEGIN:VEVENT
DTSTART;TZID=UTC:20231012T080000
DTEND;TZID=UTC:20231012T170000
DTSTAMP:20260424T161112
CREATED:20170518T020524Z
LAST-MODIFIED:20170518T020524Z
UID:1752-1697097600-1697130000@sripunya.com
SUMMARY:The new startup is on the way
DESCRIPTION:Sed ut perspiciatis unde omnis iste natus error sit voluptatem accusantium doloremque laudantium\, totam rem aperiam\, eaque ipsa quae ab illo. \nSed ut perspiciatis unde omnis iste natus error sit voluptatem accusantium doloremque laudantium\, totam rem aperiam\, eaque ipsa quae ab illo inventore veritatis et quasi architecto beatae vitae dicta sunt explicabo. Nemo enim ipsam voluptatem quia voluptas sit aspernatur aut odit aut fugit\, sed quia consequuntur magni dolores eos qui ratione voluptatem sequi nesciunt.
URL:https://sripunya.com/events/the-new-startup-is-on-the-way/
LOCATION:New York\, 8 King Street\, Queens\, NY\, United States
CATEGORIES:Seminars
ATTACH;FMTTYPE=image/jpeg:https://sripunya.com/wp-content/uploads/2017/05/event-2.jpg
ORGANIZER;CN="Gary Jones":MAILTO:info@demo.com
END:VEVENT
BEGIN:VEVENT
DTSTART;TZID=UTC:20231005T000000
DTEND;TZID=UTC:20231005T235900
DTSTAMP:20260424T161112
CREATED:20170518T020424Z
LAST-MODIFIED:20170518T020424Z
UID:1746-1696464000-1696550340@sripunya.com
SUMMARY:Taking Your Startup to The Next Level
DESCRIPTION:Sed ut perspiciatis unde omnis iste natus error sit voluptatem accusantium doloremque laudantium\, totam rem aperiam\, eaque ipsa quae ab illo. \nSed ut perspiciatis unde omnis iste natus error sit voluptatem accusantium doloremque laudantium\, totam rem aperiam\, eaque ipsa quae ab illo inventore veritatis et quasi architecto beatae vitae dicta sunt explicabo. Nemo enim ipsam voluptatem quia voluptas sit aspernatur aut odit aut fugit\, sed quia consequuntur magni dolores eos qui ratione voluptatem sequi nesciunt.
URL:https://sripunya.com/events/taking-your-startup-to-the-next-level/
LOCATION:New York\, 8 King Street\, Queens\, NY\, United States
CATEGORIES:Seminars
ATTACH;FMTTYPE=image/jpeg:https://sripunya.com/wp-content/uploads/2017/05/event-1.jpg
ORGANIZER;CN="Gary Jones":MAILTO:info@demo.com
END:VEVENT
END:VCALENDAR